BEGIN:VCALENDAR
VERSION:2.0
PRODID:-//Maison Bolene - ECPv6.0.10//NONSGML v1.0//EN
CALSCALE:GREGORIAN
METHOD:PUBLISH
X-WR-CALNAME:Maison Bolene
X-ORIGINAL-URL:https://maisonbolene.com
X-WR-CALDESC:évènements pour Maison Bolene
REFRESH-INTERVAL;VALUE=DURATION:PT1H
X-Robots-Tag:noindex
X-PUBLISHED-TTL:PT1H
BEGIN:VTIMEZONE
TZID:UTC
BEGIN:STANDARD
TZOFFSETFROM:+0000
TZOFFSETTO:+0000
TZNAME:UTC
DTSTART:20260101T000000
END:STANDARD
END:VTIMEZONE
BEGIN:VEVENT
DTSTART;TZID=UTC:20260422T143000
DTEND;TZID=UTC:20260422T163000
DTSTAMP:20260422T095702
CREATED:20241126T121332Z
LAST-MODIFIED:20260413T130345Z
UID:788-1776868200-1776875400@maisonbolene.com
SUMMARY:Rencontres intergénérationnelles autour du jeu
DESCRIPTION:Collectif Rencontre et Vous (CHPCA\, ASD\, Cyprès\, Maison Bolène). Inscription au 0471059529.
URL:https://maisonbolene.com/event/collectif-rencontre-et-vous-chpca-asd-cypres-maison-bolene-4/
LOCATION:IME La chaise Dieu\, France
ATTACH;FMTTYPE=image/svg+xml:https://maisonbolene.com/wp-content/uploads/2023/01/main.svg
END:VEVENT
END:VCALENDAR